BEGIN:VCALENDAR
VERSION:2.0
PRODID:-//hacksw/handcal//NONSGML v1.0//EN
BEGIN:VEVENT
SUMMARY:TDM National - Chennevieres
UID:a993a48a-d79f-421b-9b2e-9573428c9b4b
DTSTART:20260703T220000Z
DTEND:20260705T220000Z
LOCATION:Localisation   
CATEGORIES:Sportif
STATUS:
URL;VALUE=URI:https://archers-rocquencourt.sportsregions.fr/evenements/2026/07/04/tdm-national-chennevieres-2443390
END:VEVENT
END:VCALENDAR
