BEGIN:VCALENDAR
VERSION:2.0
PRODID:-//hacksw/handcal//NONSGML v1.0//EN
BEGIN:VEVENT
SUMMARY:Championnat Departemental - Vesinet
UID:c42e7477-5fef-43db-9b42-02adb9661d70
DTSTART:20260530T220000Z
DTEND:20260531T220000Z
LOCATION:Localisation   
CATEGORIES:Sportif
STATUS:
URL;VALUE=URI:https://archers-rocquencourt.sportsregions.fr/evenements/2026/05/31/championnat-departemental-vesinet-2443388
END:VEVENT
END:VCALENDAR
