BEGIN:VCALENDAR
VERSION:2.0
PRODID:-//hacksw/handcal//NONSGML v1.0//EN
BEGIN:VEVENT
SUMMARY:Tir Festif de la Saint Patrick 🍀
UID:c3239100-14b3-4620-bcbf-68a14a28a20a
DTSTART:20260317T230000Z
DTEND:20260318T230000Z
LOCATION:Localisation   
CATEGORIES:Festif
STATUS:
URL;VALUE=URI:https://archers-rocquencourt.sportsregions.fr/evenements/2026/03/18/tir-festif-de-la-saint-patrick-2443413
END:VEVENT
END:VCALENDAR
