BEGIN:VCALENDAR
VERSION:2.0
PRODID:-//hacksw/handcal//NONSGML v1.0//EN
BEGIN:VEVENT
SUMMARY:Championnat de France
UID:68714b1c-7e39-48fc-b0bd-abfe29cf085f
DTSTART:20260226T230000Z
DTEND:20260228T230000Z
LOCATION:Localisation   
CATEGORIES:Manifestation
STATUS:
DESCRIPTION:<p>Trois de nos archers ont suivi cette magnifique
 rencontre sportive depuis les gradins !</p>
 
 <p>L'occasion d'en
 prendre plein les yeux et de rencontrer Lisa
 Barbelin 🤩​🤩​</p>
URL;VALUE=URI:https://archers-rocquencourt.sportsregions.fr/evenements/2026/02/27/championnat-de-france-2443402
END:VEVENT
END:VCALENDAR
